Workbook

Sheet Instructions
B3: Instructions
B5: Note: | C5: Gray, purple, yellow, and green areas are locked and auto-calculated.
C6: No decimal points are allowed to input in the Current Budget and Budget Allocation by Supervisorial District columns, and Budget Request column under the Operating Costs
B8: Budget Tab: | C8: 1) Contractor, Contract Number, and Annual Contract Amount: Please input contractor name, contract number, and annual contract amount. This information is linked to "Add'l Salary Budget", "Personnel Justification", and "Operating Costs Justification" tab.
C10: 2) Service Type, Budget Period, and MOD#: Please select from drop-down list for appropriate options. This information is linked to "Add'l Salary Budget", "Personnel Justification", and "Operating Costs Justification" tab.
C12: 3) Justification: Please provide a justification for the budget modification request.
C14: 4) Employee and Salary Information: Please input in columns: Employee Name, Payroll Title, Number of Months, Monthly Salary, % Time FTE, and Current Budget (transfer budget amounts from the most recent approved budget). Budget Request and Budget Changes columns are locked and auto-calculated. The Budget Request is calculated by multiplying Number of Months, Monthly Salary, and % Time FTE. The Budget Changes is calculated by deducting Current Budget from Budget Request. Payroll Title: Please note that dual payroll title is not allowed. If staff perform additional or different duties from their payroll title, please provide an explanation in the narrative column in the Personnel Justification tab. Monthly Salary: the minimum monthly salary for full-time employee is $3,000. Please convert part-time salaries to full-time equivalent monthly salaries and adjust % FTE. If your salary line items are more than 20, please input additional lines in "Add'l Salary Budget" tab and the total amounts are linked to "Budget" tab in the purple row "from next page". Employee Name, Payroll Title, and Budget Request are linked to "Personnel Justification" tab.
C15: 5) Budget Allocation by Supervisorial District (SD): Please input amount in SD columns for each line, and these columns are unlocked for flexibility. Determine the amount for each line item is allocated to each supervisorial district based on your cost allocation plan (CAP). There are verification columns on the right side that your agency can check if the amounts in Budget Request column and the amounts input in Budget Allocation by SD columns are balanced. If the variance is $0, it's balanced. If there are amounts (negative or positive) in the Variance column, it needs to be corrected and it's shown in orange fonts.
C17: 6) Employee Benefits (EB): Please input in columns: Allocated % and Current Budget (transfer budget amounts from the most recent approved budget). Budget Changes, Budget Request, and Budget Allocation by Supervisorial District (1,2,3,4,5) columns are locked and auto-calculated. They are calculated by multiplying allocated % for each EB line item with total salaries.
C19: 7) Total Salaries and EB: Locked and auto-calculated.
C21: 8) Operating Costs: Please input in columns: Service Description, Current Budget (transfer budget amounts from the most recent approved budget), Budget Request, and Budget Allocation by Supervisorial District (1,2,3,4,5). Budget Changes is locked and auto-calculated. Service Description and Budget Request are linked to "Operating Costs Justification" tab.
C23: 9) Indirect Costs: Please input in columns: Current Budget (transfer budget amounts from the most recent approved budget), Budget Request and Budget Allocation by Supervisorial District (1,2,3,4,5). Budget Changes is locked and auto-calculated. If indirect cost rate is higher than 15% of direct costs, a copy of the current approved Negotiated Indirect Cost Rate Agreement (NICRA) is required.
B25: Add'l Salary Budget Tab: | C25: It's for additional salary lines that exceed 20 lines allowed in the Budget tab.
C27: 1) Contractor, Contract Number, Annual Contract Amount, Service Type, Budget Period, and MOD#: linked from "Budget" tab.
C29: 2) Salaries Table: refer to above "Employee and Salary Information" and "Budget Allocation by Supervisorial District" in the Budget tab section.
B31: Personnel Justification Tab: | C31: 1) Contractor, Contract Number, Annual Contract Amount, Service Type, Budget Period, and MOD#: linked from "Budget" tab.
C33: 2) Personnel Table: Please input narrative justification for each item by describing staff's role related to program services. Employee Name, Payroll Title, and Budget Request are linked from "Budget" and "Add'l Salary Budget" tab. If staff perform additional or different duties from their payroll title, please provide an explanation in the justification.
B35: Operating Costs Justification Tab: | C35: 1) Contractor, Contract Number, Annual Contract Amount, Service Type, Budget Period, and MOD#: linked from "Budget" tab.
C37: 2) Operating Costs: Please input detail justification by listing all items and allocation methodology in each budget line. The total calculation in the Justification column should match the amount in Budget Request column for each line item. Service Description and Budget Request are linked from "Budget" tab.

Sheet Budget
A1: COUNTY OF LOS ANGELES - DEPARTMENT OF PUBLIC HEALTH
A2: OFFICE OF VIOLENCE PREVENTION
A3: DOMESTIC VIOLENCE SERVICES FOR ALL (DVSFA)
A4: BUDGET MODIFICATION FORM
K6: Approved By | M6: Date
A8: CONTRACTOR: | J8: CONTRACT NUMBER:
A9: ANNUAL CONTRACT AMOUNT: | J9: SERVICE TYPE: Select from drop-down
A10: BUDGET PERIOD: Select from drop-down | E10: MOD#: Select from drop-down
A11: JUSTIFICATION:
O13: This section is for verification only. | R13: Annualized FTE %
A14: Column1 | B14: Column2 | C14: Column3 | D14: Column4 | E14: Column5 | H14: Column6 | I14: Column7 | L14: Column8 | M14: Column9 | N14: Column11 | O14: Column12 | P14: Column13 | R14: Column12
A15: Employee | B15: Payroll | C15: Number | D15: Monthly | E15: % Time | F15: Current | G15: Budget | H15: Budget | I15: Budget Allocation by Supervisorial District | O15: Verification | R15: % Time
A16: Name | B16: Title | C16: Of Months | D16: Salary | E16: FTE | F16: Budget | G16: Changes | H16: Request | I16: 1 | J16: 2 | K16: 3 | L16: 4 | M16: 5 | O16: Total | P16: Variance | R16: FTE
G17: =H17-F17 -> 0 | H17: =ROUND(C17*D17*E17,0) -> 0 | O17: =SUM(I17:M17) -> 0 | P17: =H17-O17 -> 0 | R17: =C17*E17/12 -> 0
G18: =H18-F18 -> 0 | H18: =ROUND(C18*D18*E18,0) -> 0 | O18: =SUM(I18:M18) -> 0 | P18: =H18-O18 -> 0 | R18: =C18*E18/12 -> 0
G19: =H19-F19 -> 0 | H19: =ROUND(C19*D19*E19,0) -> 0 | O19: =SUM(I19:M19) -> 0 | P19: =H19-O19 -> 0 | R19: =C19*E19/12 -> 0
G20: =H20-F20 -> 0 | H20: =ROUND(C20*D20*E20,0) -> 0 | O20: =SUM(I20:M20) -> 0 | P20: =H20-O20 -> 0 | R20: =C20*E20/12 -> 0
G21: =H21-F21 -> 0 | H21: =ROUND(C21*D21*E21,0) -> 0 | O21: =SUM(I21:M21) -> 0 | P21: =H21-O21 -> 0 | R21: =C21*E21/12 -> 0
G22: =H22-F22 -> 0 | H22: =ROUND(C22*D22*E22,0) -> 0 | O22: =SUM(I22:M22) -> 0 | P22: =H22-O22 -> 0 | R22: =C22*E22/12 -> 0
G23: =H23-F23 -> 0 | H23: =ROUND(C23*D23*E23,0) -> 0 | O23: =SUM(I23:M23) -> 0 | P23: =H23-O23 -> 0 | R23: =C23*E23/12 -> 0
G24: =H24-F24 -> 0 | H24: =ROUND(C24*D24*E24,0) -> 0 | O24: =SUM(I24:M24) -> 0 | P24: =H24-O24 -> 0 | R24: =C24*E24/12 -> 0
G25: =H25-F25 -> 0 | H25: =ROUND(C25*D25*E25,0) -> 0 | O25: =SUM(I25:M25) -> 0 | P25: =H25-O25 -> 0 | R25: =C25*E25/12 -> 0
G26: =H26-F26 -> 0 | H26: =ROUND(C26*D26*E26,0) -> 0 | O26: =SUM(I26:M26) -> 0 | P26: =H26-O26 -> 0 | R26: =C26*E26/12 -> 0
G27: =H27-F27 -> 0 | H27: =ROUND(C27*D27*E27,0) -> 0 | O27: =SUM(I27:M27) -> 0 | P27: =H27-O27 -> 0 | R27: =C27*E27/12 -> 0
G28: =H28-F28 -> 0 | H28: =ROUND(C28*D28*E28,0) -> 0 | O28: =SUM(I28:M28) -> 0 | P28: =H28-O28 -> 0 | R28: =C28*E28/12 -> 0
... G36: =H36-F36 -> 0 | H36: =ROUND(C36*D36*E36,0) -> 0 | O36: =SUM(I36:M36) -> 0 | P36: =H36-O36 -> 0 | R36: =C36*E36/12 -> 0
A37: From next page | F37: ='Add''l Salary Budget'!F105 -> 0 | G37: ='Add''l Salary Budget'!G105 -> 0 | H37: ='Add''l Salary Budget'!H105 -> 0 | I37: ='Add''l Salary Budget'!I105 -> 0 | J37: ='Add''l Salary Budget'!J105 -> 0 | K37: ='Add''l Salary Budget'!K105 -> 0 | L37: ='Add''l Salary Budget'!L105 -> 0 | M37: ='Add''l Salary Budget'!M105 -> 0 | O37: =SUM(I37:M37) -> 0 | P37: =H37-O37 -> 0 | R37: ='Add''l Salary Budget'!R105 -> 0
A38: TOTAL SALARIES | F38: =SUM(F17:F37) -> 0 | G38: =SUM(G17:G37) -> 0 | H38: =SUM(H17:H37) -> 0 | I38: =SUM(I17:I37) -> 0 | J38: =SUM(J17:J37) -> 0 | K38: =SUM(K17:K37) -> 0 | L38: =SUM(L17:L37) -> 0 | M38: =SUM(M17:M37) -> 0 | O38: =SUM(O17:O37) -> 0 | P38: =SUM(P17:P37) -> 0 | R38: =SUM(R17:R37) -> 0
A39: ANNUALIZED FTE% FOR COST ALLOCATION* | E39: =R38 -> 0
A41: EMPLOYEE BENEFITS(EB) | E41: Allocated % | F41: Current Budget | G41: Budget Changes | H41: Budget Request | I41: 1 | J41: 2 | K41: 3 | L41: 4 | M41: 5 | O41: Total | P41: Variance
A42: FICA (7.65% = Medicare 1.45% and Social Security 6.20%) | E42: 0 | G42: =H42-F42 -> 0 | H42: =ROUND(E42*$H$38,0) -> 0 | I42: =ROUND(I38*$E$42,0) -> 0 | J42: =ROUND(J38*$E$42,0) -> 0 | K42: =ROUND(K38*$E$42,0) -> 0 | L42: =ROUND(L38*$E$42,0) -> 0 | M42: =ROUND(M38*$E$42,0) -> 0 | O42: =SUM(I42:M42) -> 0 | P42: =H42-O42 -> 0
A43: Retirement | E43: 0 | G43: =H43-F43 -> 0 | H43: =ROUND(E43*$H$38,0) -> 0 | I43: =ROUND(I38*$E$43,0) -> 0 | J43: =ROUND(J38*$E$43,0) -> 0 | K43: =ROUND(K38*$E$43,0) -> 0 | L43: =ROUND(L38*$E$43,0) -> 0 | M43: =ROUND(M38*$E$43,0) -> 0 | O43: =SUM(I43:M43) -> 0 | P43: =H43-O43 -> 0
A44: SUI | E44: 0 | G44: =H44-F44 -> 0 | H44: =ROUND(E44*$H$38,0) -> 0 | I44: =ROUND(I38*$E$44,0) -> 0 | J44: =ROUND(J38*$E$44,0) -> 0 | K44: =ROUND(K38*$E$44,0) -> 0 | L44: =ROUND(L38*$E$44,0) -> 0 | M44: =ROUND(M38*$E$44,0) -> 0 | O44: =SUM(I44:M44) -> 0 | P44: =H44-O44 -> 0
A45: Health Plan | E45: 0 | G45: =H45-F45 -> 0 | H45: =ROUND(E45*$H$38,0) -> 0 | I45: =ROUND(I38*$E$45,0) -> 0 | J45: =ROUND(J38*$E$45,0) -> 0 | K45: =ROUND(K38*$E$45,0) -> 0 | L45: =ROUND(L38*$E$45,0) -> 0 | M45: =ROUND(M38*$E$45,0) -> 0 | O45: =SUM(I45:M45) -> 0 | P45: =H45-O45 -> 0
A46: Worker's Compensation | E46: 0 | G46: =H46-F46 -> 0 | H46: =ROUND(E46*$H$38,0) -> 0 | I46: =ROUND(I38*$E$46,0) -> 0 | J46: =ROUND(J38*$E$46,0) -> 0 | K46: =ROUND(K38*$E$46,0) -> 0 | L46: =ROUND(L38*$E$46,0) -> 0 | M46: =ROUND(M38*$E$46,0) -> 0 | O46: =SUM(I46:M46) -> 0 | P46: =H46-O46 -> 0
A47: Long-Term Disability | E47: 0 | G47: =H47-F47 -> 0 | H47: =ROUND(E47*$H$38,0) -> 0 | I47: =ROUND(I38*$E$47,0) -> 0 | J47: =ROUND(J38*$E$47,0) -> 0 | K47: =ROUND(K38*$E$47,0) -> 0 | L47: =ROUND(L38*$E$47,0) -> 0 | M47: =ROUND(M38*$E$47,0) -> 0 | O47: =SUM(I47:M47) -> 0 | P47: =H47-O47 -> 0
A48: Life Insurance | E48: 0 | G48: =H48-F48 -> 0 | H48: =ROUND(E48*$H$38,0) -> 0 | I48: =ROUND(I38*$E$48,0) -> 0 | J48: =ROUND(J38*$E$48,0) -> 0 | K48: =ROUND(K38*$E$48,0) -> 0 | L48: =ROUND(L38*$E$48,0) -> 0 | M48: =ROUND(M38*$E$48,0) -> 0 | O48: =SUM(I48:M48) -> 0 | P48: =H48-O48 -> 0
E49: 0 | G49: =H49-F49 -> 0 | H49: =ROUND(E49*$H$38,0) -> 0 | I49: =ROUND(I38*$E$49,0) -> 0 | J49: =ROUND(J38*$E$49,0) -> 0 | K49: =ROUND(K38*$E$49,0) -> 0 | L49: =ROUND(L38*$E$49,0) -> 0 | M49: =ROUND(M38*$E$49,0) -> 0 | O49: =SUM(I49:M49) -> 0 | P49: =H49-O49 -> 0
E50: 0 | G50: =H50-F50 -> 0 | H50: =ROUND(E50*$H$38,0) -> 0 | I50: =ROUND(I38*$E$50,0) -> 0 | J50: =ROUND(J38*$E$50,0) -> 0 | K50: =ROUND(K38*$E$50,0) -> 0 | L50: =ROUND(L38*$E$50,0) -> 0 | M50: =ROUND(M38*$E$50,0) -> 0 | O50: =SUM(I50:M50) -> 0 | P50: =H50-O50 -> 0
A51: EMPLOYEE BENEFITS(EB) | E51: =SUM(E42:E50) -> 0 | F51: =SUM(F42:F50) -> 0 | G51: =SUM(G42:G50) -> 0 | H51: =SUM(H42:H50) -> 0 | I51: =SUM(I42:I50) -> 0 | J51: =SUM(J42:J50) -> 0 | K51: =SUM(K42:K50) -> 0 | L51: =SUM(L42:L50) -> 0 | M51: =SUM(M42:M50) -> 0 | O51: =SUM(O42:O50) -> 0 | P51: =SUM(P42:P50) -> 0
...

Sheet Add'l Salary Budget
A1: =Budget!A1 -> COUNTY OF LOS ANGELES - DEPARTMENT OF PUBLIC HEALTH
A2: =Budget!A2 -> OFFICE OF VIOLENCE PREVENTION
A3: =Budget!A3 -> DOMESTIC VIOLENCE SERVICES FOR ALL (DVSFA)
A4: BUDGET MODIFICATION FORM - ADDITIONAL PERSONNEL
A6: CONTRACTOR: | B6: =IF(Budget!B8="","",Budget!B8) | J6: CONTRACT NUMBER: | L6: =IF(Budget!L8="","",Budget!L8)
A7: ANNUAL CONTRACT AMOUNT: | B7: =IF(Budget!B9="","",Budget!B9) | J7: SERVICE TYPE: | L7: =IF(Budget!L9="","",Budget!L9)
A8: BUDGET PERIOD: | B8: =IF(Budget!B10="","",Budget!B10) | E8: MOD#: | G8: =IF(Budget!G10="","",Budget!G10)
O9: This section is for verification only. | R9: Annualized FTE %
A10: Column1 | B10: Column2 | C10: Column3 | D10: Column4 | E10: Column5 | F10: Column52 | G10: Column53 | H10: Column6 | I10: Column7 | J10: Column72 | K10: Column73 | L10: Column8 | M10: Column9 | N10: Column11 | O10: Column122 | P10: Column133 | R10: Column122
A11: Employee | B11: Payroll | C11: Number | D11: Monthly | E11: % Time | F11: Current | G11: Budget | H11: Budget | I11: Budget Allocation by Supervisorial District | O11: =Budget!O15 -> Verification | R11: % Time
A12: Name | B12: Title | C12: Of Months | D12: Salary | E12: FTE | F12: Budget | G12: Changes | H12: Request | I12: 1 | J12: 2 | K12: 3 | L12: 4 | M12: 5 | O12: Total | P12: Variance | R12: FTE
G13: =H13-F13 -> 0 | H13: =ROUND(C13*D13*E13,0) -> 0 | O13: =SUM(I13:M13) -> 0 | P13: =H13-O13 -> 0 | R13: =Table33[[#This Row],[Column3]]*Table33[[#This Row],[Column5]]/12 -> 0
G14: =H14-F14 -> 0 | H14: =ROUND(C14*D14*E14,0) -> 0 | O14: =SUM(I14:M14) -> 0 | P14: =H14-O14 -> 0 | R14: =Table33[[#This Row],[Column3]]*Table33[[#This Row],[Column5]]/12 -> 0
G15: =H15-F15 -> 0 | H15: =ROUND(C15*D15*E15,0) -> 0 | O15: =SUM(I15:M15) -> 0 | P15: =H15-O15 -> 0 | R15: =Table33[[#This Row],[Column3]]*Table33[[#This Row],[Column5]]/12 -> 0
G16: =H16-F16 -> 0 | H16: =ROUND(C16*D16*E16,0) -> 0 | O16: =SUM(I16:M16) -> 0 | P16: =H16-O16 -> 0 | R16: =Table33[[#This Row],[Column3]]*Table33[[#This Row],[Column5]]/12 -> 0
G17: =H17-F17 -> 0 | H17: =ROUND(C17*D17*E17,0) -> 0 | O17: =SUM(I17:M17) -> 0 | P17: =H17-O17 -> 0 | R17: =Table33[[#This Row],[Column3]]*Table33[[#This Row],[Column5]]/12 -> 0
G18: =H18-F18 -> 0 | H18: =ROUND(C18*D18*E18,0) -> 0 | O18: =SUM(I18:M18) -> 0 | P18: =H18-O18 -> 0 | R18: =Table33[[#This Row],[Column3]]*Table33[[#This Row],[Column5]]/12 -> 0
G19: =H19-F19 -> 0 | H19: =ROUND(C19*D19*E19,0) -> 0 | O19: =SUM(I19:M19) -> 0 | P19: =H19-O19 -> 0 | R19: =Table33[[#This Row],[Column3]]*Table33[[#This Row],[Column5]]/12 -> 0
G20: =H20-F20 -> 0 | H20: =ROUND(C20*D20*E20,0) -> 0 | O20: =SUM(I20:M20) -> 0 | P20: =H20-O20 -> 0 | R20: =Table33[[#This Row],[Column3]]*Table33[[#This Row],[Column5]]/12 -> 0
G21: =H21-F21 -> 0 | H21: =ROUND(C21*D21*E21,0) -> 0 | O21: =SUM(I21:M21) -> 0 | P21: =H21-O21 -> 0 | R21: =Table33[[#This Row],[Column3]]*Table33[[#This Row],[Column5]]/12 -> 0
G22: =H22-F22 -> 0 | H22: =ROUND(C22*D22*E22,0) -> 0 | O22: =SUM(I22:M22) -> 0 | P22: =H22-O22 -> 0 | R22: =Table33[[#This Row],[Column3]]*Table33[[#This Row],[Column5]]/12 -> 0
G23: =H23-F23 -> 0 | H23: =ROUND(C23*D23*E23,0) -> 0 | O23: =SUM(I23:M23) -> 0 | P23: =H23-O23 -> 0 | R23: =Table33[[#This Row],[Column3]]*Table33[[#This Row],[Column5]]/12 -> 0
G24: =H24-F24 -> 0 | H24: =ROUND(C24*D24*E24,0) -> 0 | O24: =SUM(I24:M24) -> 0 | P24: =H24-O24 -> 0 | R24: =Table33[[#This Row],[Column3]]*Table33[[#This Row],[Column5]]/12 -> 0
... G104: =H104-F104 -> 0 | H104: =ROUND(C104*D104*E104,0) -> 0 | O104: =SUM(I104:M104) -> 0 | P104: =H104-O104 -> 0 | R104: =Table33[[#This Row],[Column3]]*Table33[[#This Row],[Column5]]/12 -> 0
A105: TOTAL SALARIES | E105: =SUM(E13:E104) -> 0 | F105: =SUM(F13:F104) -> 0 | G105: =SUM(G13:G104) -> 0 | H105: =SUM(H13:H104) -> 0 | I105: =SUM(I13:I104) -> 0 | J105: =SUM(J13:J104) -> 0 | K105: =SUM(K13:K104) -> 0 | L105: =SUM(L13:L104) -> 0 | M105: =SUM(M13:M104) -> 0 | O105: =SUM(O13:O104) -> 0 | P105: =SUM(P13:P104) -> 0 | R105: =SUM(R13:R104) -> 0

Sheet Personnel Justification
A1: =Budget!A1 -> COUNTY OF LOS ANGELES - DEPARTMENT OF PUBLIC HEALTH
A2: =Budget!A2 -> OFFICE OF VIOLENCE PREVENTION
A3: =Budget!A3 -> DOMESTIC VIOLENCE SERVICES FOR ALL (DVSFA)
A4: PERSONNEL NARRATIVE JUSTIFICATION
A5: (Complete a budget narrative for each separate line item in the budget)
A8: CONTRACTOR: | B8: =IF(Budget!B8="","",Budget!B8)
A9: CONTRACT NUMBER: | B9: =IF(Budget!L8="","",Budget!L8)
A10: ANNUAL CONTRACT AMOUNT: | B10: =IF(Budget!B9="","",Budget!B9)
A11: SERVICE TYPE: | B11: =IF(Budget!L9="","",Budget!L9)
A12: BUDGET PERIOD: | B12: =IF(Budget!B10="","",Budget!B10)
A13: MOD#: | B13: =IF(Budget!G10="","",Budget!G10)
A16: Employee Name | B16: Payroll Title | C16: Narrative Justification Describe Staff's Role Related to Program Services | D16: Budget Request | F16: FTE %
A17: =IF(Budget!A17="","",Budget!A17) | B17: =IF(Budget!B17="","",Budget!B17) | D17: =Budget!H17 -> 0 | F17: =IF(Budget!E17="","",Budget!E17)
A18: =IF(Budget!A18="","",Budget!A18) | B18: =IF(Budget!B18="","",Budget!B18) | D18: =Budget!H18 -> 0 | F18: =IF(Budget!E18="","",Budget!E18)
A19: =IF(Budget!A19="","",Budget!A19) | B19: =IF(Budget!B19="","",Budget!B19) | D19: =Budget!H19 -> 0 | F19: =IF(Budget!E19="","",Budget!E19)
A20: =IF(Budget!A20="","",Budget!A20) | B20: =IF(Budget!B20="","",Budget!B20) | D20: =Budget!H20 -> 0 | F20: =IF(Budget!E20="","",Budget!E20)
A21: =IF(Budget!A21="","",Budget!A21) | B21: =IF(Budget!B21="","",Budget!B21) | D21: =Budget!H21 -> 0 | F21: =IF(Budget!E21="","",Budget!E21)
A22: =IF(Budget!A22="","",Budget!A22) | B22: =IF(Budget!B22="","",Budget!B22) | D22: =Budget!H22 -> 0 | F22: =IF(Budget!E22="","",Budget!E22)
A23: =IF(Budget!A23="","",Budget!A23) | B23: =IF(Budget!B23="","",Budget!B23) | D23: =Budget!H23 -> 0 | F23: =IF(Budget!E23="","",Budget!E23)
A24: =IF(Budget!A24="","",Budget!A24) | B24: =IF(Budget!B24="","",Budget!B24) | D24: =Budget!H24 -> 0 | F24: =IF(Budget!E24="","",Budget!E24)
A25: =IF(Budget!A25="","",Budget!A25) | B25: =IF(Budget!B25="","",Budget!B25) | D25: =Budget!H25 -> 0 | F25: =IF(Budget!E25="","",Budget!E25)
A26: =IF(Budget!A26="","",Budget!A26) | B26: =IF(Budget!B26="","",Budget!B26) | D26: =Budget!H26 -> 0 | F26: =IF(Budget!E26="","",Budget!E26)
A27: =IF(Budget!A27="","",Budget!A27) | B27: =IF(Budget!B27="","",Budget!B27) | D27: =Budget!H27 -> 0 | F27: =IF(Budget!E27="","",Budget!E27)
A28: =IF(Budget!A28="","",Budget!A28) | B28: =IF(Budget!B28="","",Budget!B28) | D28: =Budget!H28 -> 0 | F28: =IF(Budget!E28="","",Budget!E28)
... A36: =IF(Budget!A36="","",Budget!A36) | B36: =IF(Budget!B36="","",Budget!B36) | D36: =Budget!H36 -> 0 | F36: =IF(Budget!E36="","",Budget!E36)
A37: Below items are from "Add'l Salary Budget" tab.
A38: =IF('Add''l Salary Budget'!A13="","",'Add''l Salary Budget'!A13) | B38: =IF('Add''l Salary Budget'!B13="","",'Add''l Salary Budget'!B13) | D38: ='Add''l Salary Budget'!H13 -> 0 | F38: =IF('Add''l Salary Budget'!E13="","",'Add''l Salary Budget'!E13)
A39: =IF('Add''l Salary Budget'!A14="","",'Add''l Salary Budget'!A14) | B39: =IF('Add''l Salary Budget'!B14="","",'Add''l Salary Budget'!B14) | D39: ='Add''l Salary Budget'!H14 -> 0 | F39: =IF('Add''l Salary Budget'!E14="","",'Add''l Salary Budget'!E14)
A40: =IF('Add''l Salary Budget'!A15="","",'Add''l Salary Budget'!A15) | B40: =IF('Add''l Salary Budget'!B15="","",'Add''l Salary Budget'!B15) | D40: ='Add''l Salary Budget'!H15 -> 0 | F40: =IF('Add''l Salary Budget'!E15="","",'Add''l Salary Budget'!E15)
A41: =IF('Add''l Salary Budget'!A16="","",'Add''l Salary Budget'!A16) | B41: =IF('Add''l Salary Budget'!B16="","",'Add''l Salary Budget'!B16) | D41: ='Add''l Salary Budget'!H16 -> 0 | F41: =IF('Add''l Salary Budget'!E16="","",'Add''l Salary Budget'!E16)
A42: =IF('Add''l Salary Budget'!A17="","",'Add''l Salary Budget'!A17) | B42: =IF('Add''l Salary Budget'!B17="","",'Add''l Salary Budget'!B17) | D42: ='Add''l Salary Budget'!H17 -> 0 | F42: =IF('Add''l Salary Budget'!E17="","",'Add''l Salary Budget'!E17)
A43: =IF('Add''l Salary Budget'!A18="","",'Add''l Salary Budget'!A18) | B43: =IF('Add''l Salary Budget'!B18="","",'Add''l Salary Budget'!B18) | D43: ='Add''l Salary Budget'!H18 -> 0 | F43: =IF('Add''l Salary Budget'!E18="","",'Add''l Salary Budget'!E18)
A44: =IF('Add''l Salary Budget'!A19="","",'Add''l Salary Budget'!A19) | B44: =IF('Add''l Salary Budget'!B19="","",'Add''l Salary Budget'!B19) | D44: ='Add''l Salary Budget'!H19 -> 0 | F44: =IF('Add''l Salary Budget'!E19="","",'Add''l Salary Budget'!E19)
A45: =IF('Add''l Salary Budget'!A20="","",'Add''l Salary Budget'!A20) | B45: =IF('Add''l Salary Budget'!B20="","",'Add''l Salary Budget'!B20) | D45: ='Add''l Salary Budget'!H20 -> 0 | F45: =IF('Add''l Salary Budget'!E20="","",'Add''l Salary Budget'!E20)
A46: =IF('Add''l Salary Budget'!A21="","",'Add''l Salary Budget'!A21) | B46: =IF('Add''l Salary Budget'!B21="","",'Add''l Salary Budget'!B21) | D46: ='Add''l Salary Budget'!H21 -> 0 | F46: =IF('Add''l Salary Budget'!E21="","",'Add''l Salary Budget'!E21)
A47: =IF('Add''l Salary Budget'!A22="","",'Add''l Salary Budget'!A22) | B47: =IF('Add''l Salary Budget'!B22="","",'Add''l Salary Budget'!B22) | D47: ='Add''l Salary Budget'!H22 -> 0 | F47: =IF('Add''l Salary Budget'!E22="","",'Add''l Salary Budget'!E22)
A48: =IF('Add''l Salary Budget'!A23="","",'Add''l Salary Budget'!A23) | B48: =IF('Add''l Salary Budget'!B23="","",'Add''l Salary Budget'!B23) | D48: ='Add''l Salary Budget'!H23 -> 0 | F48: =IF('Add''l Salary Budget'!E23="","",'Add''l Salary Budget'!E23)
A49: =IF('Add''l Salary Budget'!A24="","",'Add''l Salary Budget'!A24) | B49: =IF('Add''l Salary Budget'!B24="","",'Add''l Salary Budget'!B24) | D49: ='Add''l Salary Budget'!H24 -> 0 | F49: =IF('Add''l Salary Budget'!E24="","",'Add''l Salary Budget'!E24)
... A129: =IF('Add''l Salary Budget'!A104="","",'Add''l Salary Budget'!A104) | B129: =IF('Add''l Salary Budget'!B104="","",'Add''l Salary Budget'!B104) | D129: ='Add''l Salary Budget'!H104 -> 0 | F129: =IF('Add''l Salary Budget'!E104="","",'Add''l Salary Budget'!E104)
A130: Total Personnel Costs | D130: =SUM(D17:D129) -> 0 | F130: =SUM(F17:F129) -> 0

Sheet Operating Costs Justification
A1: =Budget!A1 -> COUNTY OF LOS ANGELES - DEPARTMENT OF PUBLIC HEALTH
A2: =Budget!A2 -> OFFICE OF VIOLENCE PREVENTION
A3: =Budget!A3 -> DOMESTIC VIOLENCE SERVICES FOR ALL (DVSFA)
A4: OPERATING COSTS NARRATIVE
A5: (Complete a budget narrative for each separate line item in the budget)
A8: CONTRACTOR: | B8: =IF(Budget!B8="","",Budget!B8)
A9: CONTRACT NUMBER: | B9: =IF(Budget!L8="","",Budget!L8)
A10: ANNUAL CONTRACT AMOUNT: | B10: =IF(Budget!B9="","",Budget!B9)
A11: SERVICE TYPE: | B11: =IF(Budget!L9="","",Budget!L9)
A12: BUDGET PERIOD: | B12: =IF(Budget!B10="","",Budget!B10)
A13: MOD#: | B13: =IF(Budget!G10="","",Budget!G10)
A16: Service Description | B16: Detailed Justification List all items and provide detailed calculation in each budget line (total calculation in the justification should match Budget Request) | C16: Budget Request
A17: =IF(Budget!A57="","",Budget!A57) -> I. Operating Costs
A18: =IF(Budget!A58="","",Budget!A58) -> Computer, Printer, and Software | C18: =Budget!H58 -> 0
A19: =IF(Budget!A59="","",Budget!A59) -> Equipment | C19: =Budget!H59 -> 0
A20: =IF(Budget!A60="","",Budget!A60) -> Maintenance | C20: =Budget!H60 -> 0
A21: =IF(Budget!A61="","",Budget!A61) -> Mileage | C21: =Budget!H61 -> 0
A22: =IF(Budget!A62="","",Budget!A62) -> Office Supplies | C22: =Budget!H62 -> 0
A23: =IF(Budget!A63="","",Budget!A63) -> Postage | C23: =Budget!H63 -> 0
A24: =IF(Budget!A64="","",Budget!A64) -> Printing | C24: =Budget!H64 -> 0
A25: =IF(Budget!A65="","",Budget!A65) -> Rent | C25: =Budget!H65 -> 0
A26: =IF(Budget!A66="","",Budget!A66) -> Utilities | C26: =Budget!H66 -> 0
A27: =IF(Budget!A67="","",Budget!A67) | C27: =Budget!H67 -> 0
A28: =IF(Budget!A68="","",Budget!A68) | C28: =Budget!H68 -> 0
A29: =IF(Budget!A69="","",Budget!A69) | C29: =Budget!H69 -> 0
... A43: =IF(Budget!A83="","",Budget!A83) | C43: =Budget!H83 -> 0
A44: =IF(Budget!A84="","",Budget!A84) -> Total Operating Costs | C44: =SUM(C18:C43) -> 0
A45: =IF(Budget!A85="","",Budget!A85)
A46: =IF(Budget!A86="","",Budget!A86) -> II. Others
A47: =IF(Budget!A87="","",Budget!A87) -> Hotel Bed Nights | C47: =Budget!H87 -> 0
A48: =IF(Budget!A88="","",Budget!A88) -> Translation | C48: =Budget!H88 -> 0
A49: =IF(Budget!A89="","",Budget!A89) -> Transportation | C49: =Budget!H89 -> 0
A50: =IF(Budget!A90="","",Budget!A90) -> Total Others | C50: =Budget!H90 -> 0
A52: Total Operating Costs and Others | C52: =C44+C50 -> 0

Sheet Sheet3
A8: Service | B8: Fiscal Year | C8: MOD
A9: Case Management | B9: 7/1/26 - 6/30/27 | C9: 1
A10: Legal Services | B10: 7/1/27 - 6/30/28 | C10: 2
B11: 7/1/28 - 6/30/29 | C11: 3
B12: 7/1/29 - 6/30/30
B13: 7/1/30 - 6/30/31
